BEGIN:VCALENDAR
VERSION:2.0
PRODID:-//OFICINA DEL CONTRALOR - ECPv6.15.20//NONSGML v1.0//EN
CALSCALE:GREGORIAN
METHOD:PUBLISH
X-WR-CALNAME:OFICINA DEL CONTRALOR
X-ORIGINAL-URL:https://www.ocpr.gov.pr
X-WR-CALDESC:Events for OFICINA DEL CONTRALOR
REFRESH-INTERVAL;VALUE=DURATION:PT1H
X-Robots-Tag:noindex
X-PUBLISHED-TTL:PT1H
BEGIN:VTIMEZONE
TZID:America/Puerto_Rico
BEGIN:STANDARD
TZOFFSETFROM:-0400
TZOFFSETTO:-0400
TZNAME:AST
DTSTART:20240101T000000
END:STANDARD
END:VTIMEZONE
BEGIN:VEVENT
DTSTART;TZID=America/Puerto_Rico:20250724T210000
DTEND;TZID=America/Puerto_Rico:20250724T213000
DTSTAMP:20260421T055925
CREATED:20250722T155030Z
LAST-MODIFIED:20250722T155033Z
UID:16388-1753390800-1753392600@www.ocpr.gov.pr
SUMMARY:Entrevista Padre Milton Rivera Vigó a la Contralora
DESCRIPTION:Entrevista Padre Milton Rivera Vigó a la Contraloraprograma Mi gente \n\n\n\nTele Oro\, canal TV 13Avenida Iturregui final\, Calle Marginal Esq. Baldorioty de Castro\, Carolina\, Puerto RicoTel. 787-300-2590 \n\n\nShare this:\n				Share on Facebook (Opens in new window)\n				Facebook\n			\n				Share on X (Opens in new window)\n				X\n			\n				Share on LinkedIn (Opens in new window)\n				LinkedIn\n			\n				Email a link to a friend (Opens in new window)\n				Email\n			\n				Print (Opens in new window)\n				Print
URL:https://www.ocpr.gov.pr/event/entrevista-padre-milton-rivera-vigo-a-la-contralora/
END:VEVENT
END:VCALENDAR