BEGIN:VCALENDAR
VERSION:2.0
PRODID:-//OFICINA DEL CONTRALOR - ECPv6.15.20//NONSGML v1.0//EN
CALSCALE:GREGORIAN
METHOD:PUBLISH
X-ORIGINAL-URL:https://www.ocpr.gov.pr
X-WR-CALDESC:Events for OFICINA DEL CONTRALOR
REFRESH-INTERVAL;VALUE=DURATION:PT1H
X-Robots-Tag:noindex
X-PUBLISHED-TTL:PT1H
BEGIN:VTIMEZONE
TZID:America/Puerto_Rico
BEGIN:STANDARD
TZOFFSETFROM:-0400
TZOFFSETTO:-0400
TZNAME:AST
DTSTART:20240101T000000
END:STANDARD
END:VTIMEZONE
BEGIN:VEVENT
DTSTART;TZID=America/Puerto_Rico:20250401T080000
DTEND;TZID=America/Puerto_Rico:20250401T170000
DTSTAMP:20260421T103934
CREATED:20250404T165003Z
LAST-MODIFIED:20250404T165053Z
UID:15980-1743494400-1743526800@www.ocpr.gov.pr
SUMMARY:CURSO REQUERIDO POR LA LEY 58-2020\, A OFRECERLE A LOS LEGISLADORES MUNICIPALES
DESCRIPTION:Este curso se ofrece el primer martes de cada mes para los legisladores municipales. \n\n\n\nEn cuanto a los alcaldes o legisladores estatales\, el curso se ofrece lo antes posible para que tomen posesión del cargo. \n\n\nShare this:\n				Share on Facebook (Opens in new window)\n				Facebook\n			\n				Share on X (Opens in new window)\n				X\n			\n				Share on LinkedIn (Opens in new window)\n				LinkedIn\n			\n				Email a link to a friend (Opens in new window)\n				Email\n			\n				Print (Opens in new window)\n				Print
URL:https://www.ocpr.gov.pr/event/curso-requerido-por-la-ley-58-2020-a-ofrecerle-a-los-legisladores-municipales-2/
CATEGORIES:OE-Orientaciones Externas
END:VEVENT
BEGIN:VEVENT
DTSTART;TZID=America/Puerto_Rico:20250403T073000
DTEND;TZID=America/Puerto_Rico:20250403T170000
DTSTAMP:20260421T103934
CREATED:20250404T165247Z
LAST-MODIFIED:20250404T165250Z
UID:15982-1743665400-1743699600@www.ocpr.gov.pr
SUMMARY:WHITE & BLUE IT AUDIT CONFERENCE II CAPÍTULO DE PUERTO RICO
DESCRIPTION:Plaza AEELA \n\n\n\nParticipante: Ricardo Acosta Acosta \n\n\nShare this:\n				Share on Facebook (Opens in new window)\n				Facebook\n			\n				Share on X (Opens in new window)\n				X\n			\n				Share on LinkedIn (Opens in new window)\n				LinkedIn\n			\n				Email a link to a friend (Opens in new window)\n				Email\n			\n				Print (Opens in new window)\n				Print
URL:https://www.ocpr.gov.pr/event/white-blue-it-audit-conference-ii-capitulo-de-puerto-rico/
CATEGORIES:OE-Orientaciones Externas
END:VEVENT
BEGIN:VEVENT
DTSTART;TZID=America/Puerto_Rico:20250403T084500
DTEND;TZID=America/Puerto_Rico:20250403T170000
DTSTAMP:20260421T103934
CREATED:20250404T165405Z
LAST-MODIFIED:20250404T165408Z
UID:15984-1743669900-1743699600@www.ocpr.gov.pr
SUMMARY:XVIII FORO DE CONTABILIDAD Y AUDITORÍA GUBERNAMENTAL
DESCRIPTION:COLEGIO DE CONTADORES PÚBLICOS AUTORIZADOS DE PUERTO RICO \n\n\n\n\n\nHotel Royal Sonesta \n\n\n\nOradora: Contralora de Puerto Rico \n\n\nShare this:\n				Share on Facebook (Opens in new window)\n				Facebook\n			\n				Share on X (Opens in new window)\n				X\n			\n				Share on LinkedIn (Opens in new window)\n				LinkedIn\n			\n				Email a link to a friend (Opens in new window)\n				Email\n			\n				Print (Opens in new window)\n				Print
URL:https://www.ocpr.gov.pr/event/xviii-foro-de-contabilidad-y-auditoria-gubernamental/
CATEGORIES:PC-Participaciones de la Contralora
END:VEVENT
END:VCALENDAR