BEGIN:VCALENDAR
VERSION:2.0
PRODID:-//OFICINA DEL CONTRALOR - ECPv6.15.20//NONSGML v1.0//EN
CALSCALE:GREGORIAN
METHOD:PUBLISH
X-WR-CALNAME:OFICINA DEL CONTRALOR
X-ORIGINAL-URL:https://www.ocpr.gov.pr
X-WR-CALDESC:Events for OFICINA DEL CONTRALOR
REFRESH-INTERVAL;VALUE=DURATION:PT1H
X-Robots-Tag:noindex
X-PUBLISHED-TTL:PT1H
BEGIN:VTIMEZONE
TZID:America/Puerto_Rico
BEGIN:STANDARD
TZOFFSETFROM:-0400
TZOFFSETTO:-0400
TZNAME:AST
DTSTART:20240101T000000
END:STANDARD
END:VTIMEZONE
BEGIN:VEVENT
DTSTART;TZID=America/Puerto_Rico:20250304T080000
DTEND;TZID=America/Puerto_Rico:20250304T170000
DTSTAMP:20260421T121414
CREATED:20250404T164657Z
LAST-MODIFIED:20250404T164700Z
UID:15978-1741075200-1741107600@www.ocpr.gov.pr
SUMMARY:CURSO REQUERIDO POR LA LEY 58-2020\, A OFRECERLE A LOS LEGISLADORES MUNICIPALES
DESCRIPTION:Este curso se ofrece el primer martes de cada mes para los legisladores municipales. \n\n\n\nEn cuanto a los alcaldes o legisladores estatales\, el curso se ofrece lo antes posible para que tomen posesión del cargo. \n\n\nShare this:\n				Share on Facebook (Opens in new window)\n				Facebook\n			\n				Share on X (Opens in new window)\n				X\n			\n				Share on LinkedIn (Opens in new window)\n				LinkedIn\n			\n				Email a link to a friend (Opens in new window)\n				Email\n			\n				Print (Opens in new window)\n				Print
URL:https://www.ocpr.gov.pr/event/curso-requerido-por-la-ley-58-2020-a-ofrecerle-a-los-legisladores-municipales/
CATEGORIES:OE-Orientaciones Externas
END:VEVENT
BEGIN:VEVENT
DTSTART;TZID=America/Puerto_Rico:20250326T100000
DTEND;TZID=America/Puerto_Rico:20250326T113000
DTSTAMP:20260421T121414
CREATED:20250404T164236Z
LAST-MODIFIED:20250404T164330Z
UID:15974-1742983200-1742988600@www.ocpr.gov.pr
SUMMARY:CHARLA ESTUDIANTES DE LA UNIVERSIDAD INTERAMERICANA DE PUERTO RICO RECINTO DE BAYAMÓN
DESCRIPTION:Universidad Interamericana de Puerto Rico\, Recinto Metropolitano de Bayamón \n\n\n\nParticipantes: Yesmín M. Valdivieso (Contralora)\, Vanessa Portela y Yarila Sánchez \n\n\nShare this:\n				Share on Facebook (Opens in new window)\n				Facebook\n			\n				Share on X (Opens in new window)\n				X\n			\n				Share on LinkedIn (Opens in new window)\n				LinkedIn\n			\n				Email a link to a friend (Opens in new window)\n				Email\n			\n				Print (Opens in new window)\n				Print
URL:https://www.ocpr.gov.pr/event/charla-estudiantes-de-la-universidad-interamericana-de-puerto-rico-recinto-de-bayamon/
CATEGORIES:PC-Participaciones de la Contralora
END:VEVENT
BEGIN:VEVENT
DTSTART;TZID=America/Puerto_Rico:20250326T100000
DTEND;TZID=America/Puerto_Rico:20250326T113000
DTSTAMP:20260421T121414
CREATED:20250404T164512Z
LAST-MODIFIED:20250404T164514Z
UID:15976-1742983200-1742988600@www.ocpr.gov.pr
SUMMARY:VISTAS PÚBLICAS P. DE LA C 318 PARA ENMENDAR CÓDIGO MUNICIPAL DE PUERTO RICO
DESCRIPTION:Cámara de Representantes (Salón Audiencias 2\, Anexo) \n\n\n\nParticipantes: David De Jesús\, Juan A. Rivera Rivera y Lcdo. Abelardo Casanova Hernández \n\n\nShare this:\n				Share on Facebook (Opens in new window)\n				Facebook\n			\n				Share on X (Opens in new window)\n				X\n			\n				Share on LinkedIn (Opens in new window)\n				LinkedIn\n			\n				Email a link to a friend (Opens in new window)\n				Email\n			\n				Print (Opens in new window)\n				Print
URL:https://www.ocpr.gov.pr/event/vistas-publicas-p-de-la-c-318-para-enmendar-codigo-municipal-de-puerto-rico/
END:VEVENT
END:VCALENDAR