BEGIN:VCALENDAR
VERSION:2.0
PRODID:-//OFICINA DEL CONTRALOR - ECPv6.15.20//NONSGML v1.0//EN
CALSCALE:GREGORIAN
METHOD:PUBLISH
X-WR-CALNAME:OFICINA DEL CONTRALOR
X-ORIGINAL-URL:https://www.ocpr.gov.pr
X-WR-CALDESC:Events for OFICINA DEL CONTRALOR
REFRESH-INTERVAL;VALUE=DURATION:PT1H
X-Robots-Tag:noindex
X-PUBLISHED-TTL:PT1H
BEGIN:VTIMEZONE
TZID:America/Puerto_Rico
BEGIN:STANDARD
TZOFFSETFROM:-0400
TZOFFSETTO:-0400
TZNAME:AST
DTSTART:20240101T000000
END:STANDARD
END:VTIMEZONE
BEGIN:VEVENT
DTSTART;TZID=America/Puerto_Rico:20250204T080000
DTEND;TZID=America/Puerto_Rico:20250204T170000
DTSTAMP:20260421T134646
CREATED:20250204T165421Z
LAST-MODIFIED:20250404T163823Z
UID:15716-1738656000-1738688400@www.ocpr.gov.pr
SUMMARY:CALENDARIO 2025 DEL CURSO REQUERIDO POR LA LEY 58-2020\,A OFRECERLE A LOS LEGISLADORES MUNICIPALES
DESCRIPTION:Este curso se ofrece el primer martes de cada mes para los legisladores municipales.No obstante\, en marzo y septiembre se ofrecerá el segundo martes. El mes de julio no se ofrecerá. En cuanto a los alcaldes o legisladores estatales\, el curso se ofrece lo antes posible para que tomen posesión del cargo. \n\n\n\nCalendario 2025- Curso Ley 58-2020 \n\n\nShare this:\n				Share on Facebook (Opens in new window)\n				Facebook\n			\n				Share on X (Opens in new window)\n				X\n			\n				Share on LinkedIn (Opens in new window)\n				LinkedIn\n			\n				Email a link to a friend (Opens in new window)\n				Email\n			\n				Print (Opens in new window)\n				Print
URL:https://www.ocpr.gov.pr/event/calendario-2025-del-curso-requerido-por-la-ley-58-2020a-ofrecerle-a-los-legisladores-municipales/
CATEGORIES:OE-Orientaciones Externas
END:VEVENT
END:VCALENDAR