BEGIN:VCALENDAR
VERSION:2.0
PRODID:-//OFICINA DEL CONTRALOR - ECPv6.15.20//NONSGML v1.0//EN
CALSCALE:GREGORIAN
METHOD:PUBLISH
X-ORIGINAL-URL:https://www.ocpr.gov.pr
X-WR-CALDESC:Events for OFICINA DEL CONTRALOR
REFRESH-INTERVAL;VALUE=DURATION:PT1H
X-Robots-Tag:noindex
X-PUBLISHED-TTL:PT1H
BEGIN:VTIMEZONE
TZID:America/Puerto_Rico
BEGIN:STANDARD
TZOFFSETFROM:-0400
TZOFFSETTO:-0400
TZNAME:AST
DTSTART:20230101T000000
END:STANDARD
END:VTIMEZONE
BEGIN:VEVENT
DTSTART;TZID=America/Puerto_Rico:20240805T110000
DTEND;TZID=America/Puerto_Rico:20240805T113000
DTSTAMP:20260421T235600
CREATED:20240830T150240Z
LAST-MODIFIED:20240830T150243Z
UID:15004-1722855600-1722857400@www.ocpr.gov.pr
SUMMARY:Entrevista a la Contralora (Carmen Enid Acevedo | Bonita Radio)
DESCRIPTION:Entrevista (Carmen Enid Acevedo | Bonita Radio) \n\n\n\n\n\n\n\n\n\n\nShare this:\n				Share on Facebook (Opens in new window)\n				Facebook\n			\n				Share on X (Opens in new window)\n				X\n			\n				Share on LinkedIn (Opens in new window)\n				LinkedIn\n			\n				Email a link to a friend (Opens in new window)\n				Email\n			\n				Print (Opens in new window)\n				Print
URL:https://www.ocpr.gov.pr/event/entrevista-a-la-contralora-carmen-enid-acevedo-bonita-radio/
END:VEVENT
BEGIN:VEVENT
DTSTART;TZID=America/Puerto_Rico:20240808T033000
DTEND;TZID=America/Puerto_Rico:20240808T160000
DTSTAMP:20260421T235600
CREATED:20240830T143716Z
LAST-MODIFIED:20240830T143719Z
UID:14985-1723087800-1723132800@www.ocpr.gov.pr
SUMMARY:Entrevista Carmen Jovet a la Contralora
DESCRIPTION:Entrevista Carmen Jovet a la ContraloraNotiUno 630 am1581 Ponce de León Street\, Urb. El Cerezal\, San Juan\, Puerto RicoTel 787-474-0630 \n\n\n\n \n\n\n\n\n\n\n\n\n\n\nShare this:\n				Share on Facebook (Opens in new window)\n				Facebook\n			\n				Share on X (Opens in new window)\n				X\n			\n				Share on LinkedIn (Opens in new window)\n				LinkedIn\n			\n				Email a link to a friend (Opens in new window)\n				Email\n			\n				Print (Opens in new window)\n				Print
URL:https://www.ocpr.gov.pr/event/entrevista-carmen-jovet-a-la-contralora/
END:VEVENT
BEGIN:VEVENT
DTSTART;TZID=America/Puerto_Rico:20240808T160000
DTEND;TZID=America/Puerto_Rico:20240808T170000
DTSTAMP:20260421T235600
CREATED:20240830T143419Z
LAST-MODIFIED:20240830T143422Z
UID:14983-1723132800-1723136400@www.ocpr.gov.pr
SUMMARY:Entrevista a la Contralora en Teleonce
DESCRIPTION:Entrevista a la Contralora en Teleonce \n\n\n\n64 calle Carazo\, Guaynabo\, Puerto Rico \n\n\n\n787-300-5000 \n\n\n\n4:00 pm a 4:10 pm \n\n\n\nEntrevista Carmen Jovet a la Contralora \n\n\n\nNotiUno 630 am \n\n\n\n1581 Ponce de León Street\, Urb. El Cerezal\, San Juan\, Puerto Rico \n\n\n\nTel 787-474-0630 \n  \n\n\n\n\n\n\n\n\n\n\nShare this:\n				Share on Facebook (Opens in new window)\n				Facebook\n			\n				Share on X (Opens in new window)\n				X\n			\n				Share on LinkedIn (Opens in new window)\n				LinkedIn\n			\n				Email a link to a friend (Opens in new window)\n				Email\n			\n				Print (Opens in new window)\n				Print
URL:https://www.ocpr.gov.pr/event/entrevista-a-la-contralora-en-teleonce/
END:VEVENT
BEGIN:VEVENT
DTSTART;TZID=America/Puerto_Rico:20240819T080000
DTEND;TZID=America/Puerto_Rico:20240819T083000
DTSTAMP:20260421T235600
CREATED:20240830T143826Z
LAST-MODIFIED:20240830T143828Z
UID:14987-1724054400-1724056200@www.ocpr.gov.pr
SUMMARY:Entrevista Amnellys Morales a la Contralora
DESCRIPTION:Entrevista Amnellys Morales a la ContraloraBorinquen RadioAve. Domenech\, San Juan787-763-1066 \n\n\n\n \n\n\n\n\n\n\n\n\n\n\nShare this:\n				Share on Facebook (Opens in new window)\n				Facebook\n			\n				Share on X (Opens in new window)\n				X\n			\n				Share on LinkedIn (Opens in new window)\n				LinkedIn\n			\n				Email a link to a friend (Opens in new window)\n				Email\n			\n				Print (Opens in new window)\n				Print
URL:https://www.ocpr.gov.pr/event/entrevista-amnellys-morales-a-la-contralora/
END:VEVENT
BEGIN:VEVENT
DTSTART;TZID=America/Puerto_Rico:20240819T100000
DTEND;TZID=America/Puerto_Rico:20240821T190000
DTSTAMP:20260421T235600
CREATED:20240830T145717Z
LAST-MODIFIED:20240830T145719Z
UID:14998-1724061600-1724266800@www.ocpr.gov.pr
SUMMARY:Participación de la Contralora de Puerto Rico a NASACT 2024 Annual Conference
DESCRIPTION:19-21 agostoParticipación de la Contralora de Puerto Rico a NASACT 2024 Annual Conference10:00 am – 7:00 pmhttps://www.nasact.org/ \n\n\n\n \n\n\n\n\n\n\n\n\n\n\nShare this:\n				Share on Facebook (Opens in new window)\n				Facebook\n			\n				Share on X (Opens in new window)\n				X\n			\n				Share on LinkedIn (Opens in new window)\n				LinkedIn\n			\n				Email a link to a friend (Opens in new window)\n				Email\n			\n				Print (Opens in new window)\n				Print
URL:https://www.ocpr.gov.pr/event/participacion-de-la-contralora-de-puerto-rico-a-nasact-2024-annual-conference/
END:VEVENT
BEGIN:VEVENT
DTSTART;TZID=America/Puerto_Rico:20240819T160000
DTEND;TZID=America/Puerto_Rico:20240819T163000
DTSTAMP:20260421T235600
CREATED:20240830T143944Z
LAST-MODIFIED:20240830T143946Z
UID:14989-1724083200-1724085000@www.ocpr.gov.pr
SUMMARY:Entrevista Milly Méndez (Día a Día) al SubcontralorTelemundo
DESCRIPTION:Entrevista Milly Méndez (Día a Día) al SubcontralorTelemundo383 Ave. Roosevelt\, Hato Rey\, PR 00918787-641-222 \n\n\n\n \n\n\n\n\n\n\n\n\n\n\nShare this:\n				Share on Facebook (Opens in new window)\n				Facebook\n			\n				Share on X (Opens in new window)\n				X\n			\n				Share on LinkedIn (Opens in new window)\n				LinkedIn\n			\n				Email a link to a friend (Opens in new window)\n				Email\n			\n				Print (Opens in new window)\n				Print
URL:https://www.ocpr.gov.pr/event/entrevista-milly-mendez-dia-a-dia-al-subcontralortelemundo/
END:VEVENT
BEGIN:VEVENT
DTSTART;TZID=America/Puerto_Rico:20240820T070000
DTEND;TZID=America/Puerto_Rico:20240820T071500
DTSTAMP:20260421T235600
CREATED:20240830T144236Z
LAST-MODIFIED:20240830T144238Z
UID:14994-1724137200-1724138100@www.ocpr.gov.pr
SUMMARY:Entrevista Julio Rivera Saniel al Subcontralor - Radio Isla
DESCRIPTION:Entrevista Julio Rivera Saniel al SubcontralorRadio Isla171 Avenida Carlos Chardón Suite 401. San Juan\, Puerto RicoTeléfono: 787-292-1700 \n\n\n\n \n\n\n\n\n\n\n\n\n\n\nShare this:\n				Share on Facebook (Opens in new window)\n				Facebook\n			\n				Share on X (Opens in new window)\n				X\n			\n				Share on LinkedIn (Opens in new window)\n				LinkedIn\n			\n				Email a link to a friend (Opens in new window)\n				Email\n			\n				Print (Opens in new window)\n				Print
URL:https://www.ocpr.gov.pr/event/entrevista-julio-rivera-saniel-al-subcontralor-radio-isla/
END:VEVENT
BEGIN:VEVENT
DTSTART;TZID=America/Puerto_Rico:20240820T073000
DTEND;TZID=America/Puerto_Rico:20240820T080000
DTSTAMP:20260421T235600
CREATED:20240830T144123Z
LAST-MODIFIED:20240830T144125Z
UID:14992-1724139000-1724140800@www.ocpr.gov.pr
SUMMARY:Entrevista Normando Valentín a la Contralora
DESCRIPTION:Entrevista Normando Valentín a la ContraloraNotiUno 630 am1581 Ponce de León Street\, Urb. El Cerezal\, San Juan\, Puerto RicoTel 787-474-0630 \n\n\n\n \n\n\n\n\n\n\n\n\n\n\nShare this:\n				Share on Facebook (Opens in new window)\n				Facebook\n			\n				Share on X (Opens in new window)\n				X\n			\n				Share on LinkedIn (Opens in new window)\n				LinkedIn\n			\n				Email a link to a friend (Opens in new window)\n				Email\n			\n				Print (Opens in new window)\n				Print
URL:https://www.ocpr.gov.pr/event/entrevista-normando-valentin-a-la-contralora/
END:VEVENT
BEGIN:VEVENT
DTSTART;TZID=America/Puerto_Rico:20240822T100000
DTEND;TZID=America/Puerto_Rico:20240823T190000
DTSTAMP:20260421T235600
CREATED:20240830T144549Z
LAST-MODIFIED:20240830T144551Z
UID:14996-1724320800-1724439600@www.ocpr.gov.pr
SUMMARY:Participación de la Contralora de Puerto Rico a XLVIII Asamblea General Ordinaria de la OCCEFS
DESCRIPTION:22-23 de agosto \n\n\n\nParticipación de la Contralora de Puerto Rico a XLVIII Asamblea General Ordinaria de la OCCEFS \n\n\n\nwww.occefs.org \n\n\n\n10:00 am – 7:00 pm \n  \n\n\n\n\n\n\n\n\n\n\nShare this:\n				Share on Facebook (Opens in new window)\n				Facebook\n			\n				Share on X (Opens in new window)\n				X\n			\n				Share on LinkedIn (Opens in new window)\n				LinkedIn\n			\n				Email a link to a friend (Opens in new window)\n				Email\n			\n				Print (Opens in new window)\n				Print
URL:https://www.ocpr.gov.pr/event/participacion-de-la-contralora-de-puerto-rico-a-xlviii-asamblea-general-ordinaria-de-la-occefs/
END:VEVENT
BEGIN:VEVENT
DTSTART;TZID=America/Puerto_Rico:20240828T100000
DTEND;TZID=America/Puerto_Rico:20240828T170000
DTSTAMP:20260421T235600
CREATED:20240830T145938Z
LAST-MODIFIED:20240830T145940Z
UID:15000-1724839200-1724864400@www.ocpr.gov.pr
SUMMARY:Participación de la Contralora de Puerto Rico a la Conferencia Magistral - Los desafíos de los gobiernos democráticos
DESCRIPTION:Participación de la Contralora de Puerto Rico a la Conferencia Magistral Los desafíos de los gobiernos democráticos10:00 am Facultad de Estudios Generales\, UPR Río Piedras \n\n\n\n \n\n\n\n\n\n\n\n\n\n\nShare this:\n				Share on Facebook (Opens in new window)\n				Facebook\n			\n				Share on X (Opens in new window)\n				X\n			\n				Share on LinkedIn (Opens in new window)\n				LinkedIn\n			\n				Email a link to a friend (Opens in new window)\n				Email\n			\n				Print (Opens in new window)\n				Print
URL:https://www.ocpr.gov.pr/event/participacion-de-la-contralora-de-puerto-rico-a-la-conferencia-magistral-los-desafios-de-los-gobiernos-democraticos/
END:VEVENT
END:VCALENDAR