BEGIN:VCALENDAR
VERSION:2.0
PRODID:-//OFICINA DEL CONTRALOR - ECPv6.15.20//NONSGML v1.0//EN
CALSCALE:GREGORIAN
METHOD:PUBLISH
X-ORIGINAL-URL:https://www.ocpr.gov.pr
X-WR-CALDESC:Events for OFICINA DEL CONTRALOR
REFRESH-INTERVAL;VALUE=DURATION:PT1H
X-Robots-Tag:noindex
X-PUBLISHED-TTL:PT1H
BEGIN:VTIMEZONE
TZID:America/Puerto_Rico
BEGIN:STANDARD
TZOFFSETFROM:-0400
TZOFFSETTO:-0400
TZNAME:AST
DTSTART:20230101T000000
END:STANDARD
END:VTIMEZONE
BEGIN:VEVENT
DTSTART;TZID=America/Puerto_Rico:20240709T080000
DTEND;TZID=America/Puerto_Rico:20240710T170000
DTSTAMP:20260422T012602
CREATED:20240709T150508Z
LAST-MODIFIED:20240709T150511Z
UID:14394-1720512000-1720630800@www.ocpr.gov.pr
SUMMARY:“X Conferencia OLACEFS/EUROSAI Auditorias para futuros resilientes” en la ciudad de México\, México
DESCRIPTION:La conferencia girará en torno a que las EFS\, desde su labor\, pueden aportar a la construcción de una estrategia sostenible en cada país\, que permita afrontar diversas amenazas\, como las provenientes de los fenómenos naturales y las consecuencias del cambio climático. \n\n\n\n\n\n\n\n\n\n\nShare this:\n				Share on Facebook (Opens in new window)\n				Facebook\n			\n				Share on X (Opens in new window)\n				X\n			\n				Share on LinkedIn (Opens in new window)\n				LinkedIn\n			\n				Email a link to a friend (Opens in new window)\n				Email\n			\n				Print (Opens in new window)\n				Print
URL:https://www.ocpr.gov.pr/event/x-conferencia-olacefs-eurosai-auditorias-para-futuros-resilientes-en-la-ciudad-de-mexico-mexico/
CATEGORIES:OE-Orientaciones Externas,PC-Participaciones de la Contralora
END:VEVENT
END:VCALENDAR