BEGIN:VCALENDAR
VERSION:2.0
PRODID:-//OFICINA DEL CONTRALOR - ECPv6.15.20//NONSGML v1.0//EN
CALSCALE:GREGORIAN
METHOD:PUBLISH
X-ORIGINAL-URL:https://www.ocpr.gov.pr
X-WR-CALDESC:Events for OFICINA DEL CONTRALOR
REFRESH-INTERVAL;VALUE=DURATION:PT1H
X-Robots-Tag:noindex
X-PUBLISHED-TTL:PT1H
BEGIN:VTIMEZONE
TZID:America/Puerto_Rico
BEGIN:STANDARD
TZOFFSETFROM:-0400
TZOFFSETTO:-0400
TZNAME:AST
DTSTART:20230101T000000
END:STANDARD
END:VTIMEZONE
BEGIN:VEVENT
DTSTART;TZID=America/Puerto_Rico:20240408T180000
DTEND;TZID=America/Puerto_Rico:20240408T183000
DTSTAMP:20260422T055954
CREATED:20240410T210735Z
LAST-MODIFIED:20240410T210738Z
UID:13938-1712599200-1712601000@www.ocpr.gov.pr
SUMMARY:Entrevista Contralora en AbC Puerto Rico
DESCRIPTION:Entrevista Contralora en AbC Puerto Rico\n\n\n\n1519 Av. Juan Ponce de León\, San Juan\, 00909  787) 721-4054 \n\n\nShare this:\n				Share on Facebook (Opens in new window)\n				Facebook\n			\n				Share on X (Opens in new window)\n				X\n			\n				Share on LinkedIn (Opens in new window)\n				LinkedIn\n			\n				Email a link to a friend (Opens in new window)\n				Email\n			\n				Print (Opens in new window)\n				Print
URL:https://www.ocpr.gov.pr/event/entrevista-contralora-en-abc-puerto-rico/
CATEGORIES:PC-Participaciones de la Contralora
END:VEVENT
BEGIN:VEVENT
DTSTART;TZID=America/Puerto_Rico:20240409T073000
DTEND;TZID=America/Puerto_Rico:20240409T080000
DTSTAMP:20260422T055954
CREATED:20240410T210954Z
LAST-MODIFIED:20240410T210956Z
UID:13940-1712647800-1712649600@www.ocpr.gov.pr
SUMMARY:Entrevista Contralora Radio Isla 1320 
DESCRIPTION:Entrevista Contralora Radio Isla 1320  \n\n\n\nradioisla.ty 171 Avenida Carlos E. Chardón\, San Juan tel (787) 292-1700 \n\n\nShare this:\n				Share on Facebook (Opens in new window)\n				Facebook\n			\n				Share on X (Opens in new window)\n				X\n			\n				Share on LinkedIn (Opens in new window)\n				LinkedIn\n			\n				Email a link to a friend (Opens in new window)\n				Email\n			\n				Print (Opens in new window)\n				Print
URL:https://www.ocpr.gov.pr/event/entrevista-contralora-radio-isla-1320/
CATEGORIES:PC-Participaciones de la Contralora
END:VEVENT
BEGIN:VEVENT
DTSTART;TZID=America/Puerto_Rico:20240409T153000
DTEND;TZID=America/Puerto_Rico:20240409T160000
DTSTAMP:20260422T055954
CREATED:20240410T211204Z
LAST-MODIFIED:20240410T211206Z
UID:13942-1712676600-1712678400@www.ocpr.gov.pr
SUMMARY:Entrevista Contralora en TeleOnce
DESCRIPTION:Entrevista Contralora en TeleOnce \n\n\n\n64 Carazo St\, Guaynabo\, 00969\, Puerto Rico\, Guaynabo +1 787 721 0007 \n\n\nShare this:\n				Share on Facebook (Opens in new window)\n				Facebook\n			\n				Share on X (Opens in new window)\n				X\n			\n				Share on LinkedIn (Opens in new window)\n				LinkedIn\n			\n				Email a link to a friend (Opens in new window)\n				Email\n			\n				Print (Opens in new window)\n				Print
URL:https://www.ocpr.gov.pr/event/entrevista-contralora-en-teleonce/
CATEGORIES:PC-Participaciones de la Contralora
END:VEVENT
BEGIN:VEVENT
DTSTART;TZID=America/Puerto_Rico:20240410T161500
DTEND;TZID=America/Puerto_Rico:20240410T164500
DTSTAMP:20260422T055954
CREATED:20240410T211432Z
LAST-MODIFIED:20240410T211435Z
UID:13944-1712765700-1712767500@www.ocpr.gov.pr
SUMMARY:Entrevista Contralora en NotiUno con Carmen Jovet
DESCRIPTION:Entrevista Contralora en NotiUno con Carmen Jovet \n\n\n\nDirección Física: 1581 Ponce de León Street\, Urb. El Cerezal\,. San Juan\, Puerto Rico-00926 \n\n\nShare this:\n				Share on Facebook (Opens in new window)\n				Facebook\n			\n				Share on X (Opens in new window)\n				X\n			\n				Share on LinkedIn (Opens in new window)\n				LinkedIn\n			\n				Email a link to a friend (Opens in new window)\n				Email\n			\n				Print (Opens in new window)\n				Print
URL:https://www.ocpr.gov.pr/event/entrevista-contralora-en-notiuno-con-carmen-jovet/
CATEGORIES:PC-Participaciones de la Contralora
END:VEVENT
BEGIN:VEVENT
DTSTART;TZID=America/Puerto_Rico:20240424T093000
DTEND;TZID=America/Puerto_Rico:20240424T120000
DTSTAMP:20260422T055954
CREATED:20240429T221759Z
LAST-MODIFIED:20240429T221801Z
UID:14060-1713951000-1713960000@www.ocpr.gov.pr
SUMMARY:Charla a estudiantes de la Universidad Ana G. Méndez en Cayey
DESCRIPTION:24 de abril de 2024 \n\n\n\nCharla a estudiantes de la Universidad Ana G. Méndez en Cayey \n\n\n\n9:30am-12:00pm \n\n\n\nAna G. Méndez en Cayey \n\n\n\n3001 Calle Antonio R. Barceló\, EviarCayey\, Cayey\, 00736 Tel. +17872632177 \n\n\nShare this:\n				Share on Facebook (Opens in new window)\n				Facebook\n			\n				Share on X (Opens in new window)\n				X\n			\n				Share on LinkedIn (Opens in new window)\n				LinkedIn\n			\n				Email a link to a friend (Opens in new window)\n				Email\n			\n				Print (Opens in new window)\n				Print
URL:https://www.ocpr.gov.pr/event/charla-a-estudiantes-de-la-universidad-ana-g-mendez-en-cayey/
CATEGORIES:PC-Participaciones de la Contralora
END:VEVENT
BEGIN:VEVENT
DTSTART;TZID=America/Puerto_Rico:20240426T090000
DTEND;TZID=America/Puerto_Rico:20240426T120000
DTSTAMP:20260422T055954
CREATED:20240429T221954Z
LAST-MODIFIED:20240429T221956Z
UID:14062-1714122000-1714132800@www.ocpr.gov.pr
SUMMARY:Foro sobre Aspectos éticos de los municipios y los legisladores municipales en el Congreso de Legisladores Municipales
DESCRIPTION:26 de abril \n\n\n\nLa Contralora de Puerto Rico participa del foro sobre Aspectos éticos de los municipios y los legisladores municipales en el Congreso de Legisladores Municipales. \n\n\n\n9:00 am a  12:00 pm \n\n\n\nLugar: Hampton\, Dorado \n\n\nShare this:\n				Share on Facebook (Opens in new window)\n				Facebook\n			\n				Share on X (Opens in new window)\n				X\n			\n				Share on LinkedIn (Opens in new window)\n				LinkedIn\n			\n				Email a link to a friend (Opens in new window)\n				Email\n			\n				Print (Opens in new window)\n				Print
URL:https://www.ocpr.gov.pr/event/foro-sobre-aspectos-eticos-de-los-municipios-y-los-legisladores-municipales-en-el-congreso-de-legisladores-municipales/
CATEGORIES:PC-Participaciones de la Contralora
END:VEVENT
BEGIN:VEVENT
DTSTART;TZID=America/Puerto_Rico:20240429T153000
DTEND;TZID=America/Puerto_Rico:20240429T160000
DTSTAMP:20260422T055954
CREATED:20240429T222150Z
LAST-MODIFIED:20240429T222152Z
UID:14064-1714404600-1714406400@www.ocpr.gov.pr
SUMMARY:Entrevista a la Contralora en Los Datos Son los Datos (WAPA tv)
DESCRIPTION:29 de abril de 2024 \n\n\n\n3:30 pm Entrevista a la Contralora en Los Datos Son los Datos (WAPA tv) \n\n\n\nhttps://www.waze.com/es-419/live-map/directions/wapa-tv-avenida-luis-vigoreaux-san-juan?to=place.w.192610488.1926039344.2640019  \n\n\n\ntel. (787) 792-4444 \n\n\nShare this:\n				Share on Facebook (Opens in new window)\n				Facebook\n			\n				Share on X (Opens in new window)\n				X\n			\n				Share on LinkedIn (Opens in new window)\n				LinkedIn\n			\n				Email a link to a friend (Opens in new window)\n				Email\n			\n				Print (Opens in new window)\n				Print
URL:https://www.ocpr.gov.pr/event/entrevista-a-la-contralora-en-los-datos-son-los-datos-wapa-tv/
CATEGORIES:PC-Participaciones de la Contralora
END:VEVENT
BEGIN:VEVENT
DTSTART;TZID=America/Puerto_Rico:20240430T074000
DTEND;TZID=America/Puerto_Rico:20240430T114500
DTSTAMP:20260422T055954
CREATED:20240429T222410Z
LAST-MODIFIED:20240429T222958Z
UID:14066-1714462800-1714477500@www.ocpr.gov.pr
SUMMARY:Tema: Más allá de duda razonable: utopía vs. debido proceso de ley
DESCRIPTION:30 de abril de 2024 \n\n\n\n\n\n\n\nAdiestramiento al personal de auditoría y legal con Exjueces: Casos Criminales de Relevancia. \n\n\n\nTema: Más allá de duda razonable: utopía vs. debido proceso de ley  \n\n\n\n \n\n\n\nLugar: OCPR\, Edificio Union Plaza – Hato Rey 7:45 am -11:45 am \n\n\nShare this:\n				Share on Facebook (Opens in new window)\n				Facebook\n			\n				Share on X (Opens in new window)\n				X\n			\n				Share on LinkedIn (Opens in new window)\n				LinkedIn\n			\n				Email a link to a friend (Opens in new window)\n				Email\n			\n				Print (Opens in new window)\n				Print
URL:https://www.ocpr.gov.pr/event/tema-mas-alla-de-duda-razonable-utopia-vs-debido-proceso-de-ley/
CATEGORIES:OE-Orientaciones Externas
END:VEVENT
BEGIN:VEVENT
DTSTART;TZID=America/Puerto_Rico:20240430T103000
DTEND;TZID=America/Puerto_Rico:20240430T120000
DTSTAMP:20260422T055954
CREATED:20240429T223231Z
LAST-MODIFIED:20240429T223233Z
UID:14070-1714473000-1714478400@www.ocpr.gov.pr
SUMMARY:Charla a la Asociación de Estudiantes de Contabilidad de la UPR\, Recinto de Humacao
DESCRIPTION:Charla a la Asociación de Estudiantes de Contabilidad de la UPR\, Recinto de Humacao \n\n\n\n10:30 am a 12:00 md \n\n\n\nTel. 787-850-0000 \n\n\n\nDirección: \n\n\n\nAvenida José E Aguiar Aramburu\, Carr. 908 KM 1.2\, Humacao\, 00791 \n\n\nShare this:\n				Share on Facebook (Opens in new window)\n				Facebook\n			\n				Share on X (Opens in new window)\n				X\n			\n				Share on LinkedIn (Opens in new window)\n				LinkedIn\n			\n				Email a link to a friend (Opens in new window)\n				Email\n			\n				Print (Opens in new window)\n				Print
URL:https://www.ocpr.gov.pr/event/charla-a-la-asociacion-de-estudiantes-de-contabilidad-de-la-upr-recinto-de-humacao/
CATEGORIES:PC-Participaciones de la Contralora
END:VEVENT
END:VCALENDAR