BEGIN:VCALENDAR
VERSION:2.0
PRODID:-//OFICINA DEL CONTRALOR - ECPv6.15.20//NONSGML v1.0//EN
CALSCALE:GREGORIAN
METHOD:PUBLISH
X-WR-CALNAME:OFICINA DEL CONTRALOR
X-ORIGINAL-URL:https://www.ocpr.gov.pr
X-WR-CALDESC:Events for OFICINA DEL CONTRALOR
REFRESH-INTERVAL;VALUE=DURATION:PT1H
X-Robots-Tag:noindex
X-PUBLISHED-TTL:PT1H
BEGIN:VTIMEZONE
TZID:America/Puerto_Rico
BEGIN:STANDARD
TZOFFSETFROM:-0400
TZOFFSETTO:-0400
TZNAME:AST
DTSTART:20230101T000000
END:STANDARD
END:VTIMEZONE
BEGIN:VEVENT
DTSTART;TZID=America/Puerto_Rico:20240306T110000
DTEND;TZID=America/Puerto_Rico:20240306T170000
DTSTAMP:20260422T072115
CREATED:20240306T145755Z
LAST-MODIFIED:20240306T145757Z
UID:13747-1709722800-1709744400@www.ocpr.gov.pr
SUMMARY:Contralora participa en la Vista pública de la Comisión de Gobierno del Senado de Puerto Rico sobre informe de Auditoría OC-24-35 del Departamento de Educación\, Oficina Regional Educativa de Ponce.
DESCRIPTION:Contralora participa en la Vista pública de la Comisión de Gobierno del Senado de Puerto Rico sobre informe de Auditoría OC-24-35 del Departamento de Educación\, Oficina Regional Educativa de Ponce. \n\n\n\nLugar: Salón Luis Negrón López\, Senado de Puerto Rico \n\n\n\n\n\n\n\n\n\n\nShare this:\n				Share on Facebook (Opens in new window)\n				Facebook\n			\n				Share on X (Opens in new window)\n				X\n			\n				Share on LinkedIn (Opens in new window)\n				LinkedIn\n			\n				Email a link to a friend (Opens in new window)\n				Email\n			\n				Print (Opens in new window)\n				Print
URL:https://www.ocpr.gov.pr/event/contralora-participa-en-la-vista-publica-de-la-comision-de-gobierno-del-senado-de-puerto-rico-sobre-informe-de-auditoria-oc-24-35-del-departamento-de-educacion-oficina-regional-educativa-de-ponce/
END:VEVENT
BEGIN:VEVENT
DTSTART;TZID=America/Puerto_Rico:20240307T110000
DTEND;TZID=America/Puerto_Rico:20240307T120000
DTSTAMP:20260422T072115
CREATED:20240306T163416Z
LAST-MODIFIED:20240311T175449Z
UID:13749-1709809200-1709812800@www.ocpr.gov.pr
SUMMARY:Ponencia la Contralora Webinario Mujer OLACEFS “Igualdad de género y Derechos de las mujeres: Estado de situación y desafíos en América Latina y el rol de las EFS”.
DESCRIPTION:“Igualdad de género y Derechos de las mujeres: Estado de situación y desafíos en América Latina y el rol de las EFS”. \n\n\n\nJueves\, 7 de marzo de 2024A las 12 horas en Argentina\, (11:00 AM en Puerto Rico)Webinario en modalidad virtual por la plataforma Zoom. Webinario de OLACEFS  \n\n\n\nhttps://agn-gov-ar.zoom.us/j/81777531945#success \n\n\n\n \n\n\n\n \n\n\n\n\n\n\nShare this:\n				Share on Facebook (Opens in new window)\n				Facebook\n			\n				Share on X (Opens in new window)\n				X\n			\n				Share on LinkedIn (Opens in new window)\n				LinkedIn\n			\n				Email a link to a friend (Opens in new window)\n				Email\n			\n				Print (Opens in new window)\n				Print
URL:https://www.ocpr.gov.pr/event/ponencia-la-contralora-webinario-mujer-olacefs-igualdad-de-genero-y-derechos-de-las-mujeres-estado-de-situacion-y-desafios-en-america-latina-y-el-rol-de-las-efs/
CATEGORIES:PC-Participaciones de la Contralora
END:VEVENT
BEGIN:VEVENT
DTSTART;TZID=America/Puerto_Rico:20240307T140000
DTEND;TZID=America/Puerto_Rico:20240307T163000
DTSTAMP:20260422T072115
CREATED:20240311T174947Z
LAST-MODIFIED:20240311T175301Z
UID:13803-1709820000-1709829000@www.ocpr.gov.pr
SUMMARY:Vista Pública sobre la R. de la C. 256 para evaluar la distribución y el uso de los incentivos económicos otorgados a personasy entidades de la industria turística afectados por la pandemia del COVID-19
DESCRIPTION:OCPR participará en Vista Pública sobre la R. de la C. 256 para evaluar la distribución y el uso de los incentivos económicos otorgados a personasy entidades de la industria turística afectados por la pandemia del COVID-19 y para otros fines relacionados. \n\n\n\nLugar: Salón Audiencias 2\, El Capitolio  Comisión de Turismo y Cooperativismo de la Cámara de Representantes \n\n\nShare this:\n				Share on Facebook (Opens in new window)\n				Facebook\n			\n				Share on X (Opens in new window)\n				X\n			\n				Share on LinkedIn (Opens in new window)\n				LinkedIn\n			\n				Email a link to a friend (Opens in new window)\n				Email\n			\n				Print (Opens in new window)\n				Print
URL:https://www.ocpr.gov.pr/event/vista-publica-sobre-la-r-de-la-c-256-para-evaluar-la-distribucion-y-el-uso-de-los-incentivos-economicos-otorgados-a-personasy-entidades-de-la-industria-turistica-afectados-por-la-pandemia-del-covid-2/
CATEGORIES:PC-Participaciones de la Contralora
END:VEVENT
BEGIN:VEVENT
DTSTART;TZID=America/Puerto_Rico:20240314T080000
DTEND;TZID=America/Puerto_Rico:20240314T170000
DTSTAMP:20260422T072115
CREATED:20240311T153120Z
LAST-MODIFIED:20240311T153123Z
UID:13798-1710403200-1710435600@www.ocpr.gov.pr
SUMMARY:Reunión Internacional de INTOSAI
DESCRIPTION:Reunión Internacional de INTOSAI \n\n\n\nPonencia de la Contralora “Participación Ciudadana e Interacción de la Sociedad Civil con las EFS” @  Contraloría de Perú \n\n\nShare this:\n				Share on Facebook (Opens in new window)\n				Facebook\n			\n				Share on X (Opens in new window)\n				X\n			\n				Share on LinkedIn (Opens in new window)\n				LinkedIn\n			\n				Email a link to a friend (Opens in new window)\n				Email\n			\n				Print (Opens in new window)\n				Print
URL:https://www.ocpr.gov.pr/event/reunion-internacional-de-intosai/
END:VEVENT
BEGIN:VEVENT
DTSTART;TZID=America/Puerto_Rico:20240314T080000
DTEND;TZID=America/Puerto_Rico:20240314T170000
DTSTAMP:20260422T072115
CREATED:20240311T165832Z
LAST-MODIFIED:20240313T160125Z
UID:13801-1710403200-1710435600@www.ocpr.gov.pr
SUMMARY:La Contralora estará participando esta semana en Perú con el tema: Participación Ciudadana e Interacción de la Sociedad Civil con las EFS.
DESCRIPTION:Reunión Internacional de INTOSAIPonencia de la Contralora “Participación Ciudadana e Interacción de la Sociedad Civil con las EFS”@ Contraloría de Perú \n\n\nShare this:\n				Share on Facebook (Opens in new window)\n				Facebook\n			\n				Share on X (Opens in new window)\n				X\n			\n				Share on LinkedIn (Opens in new window)\n				LinkedIn\n			\n				Email a link to a friend (Opens in new window)\n				Email\n			\n				Print (Opens in new window)\n				Print
URL:https://www.ocpr.gov.pr/event/la-contralora-estara-participando-esta-semana-en-peru-con-el-tema-participacion-ciudadana-e-interaccion-de-la-sociedad-civil-con-las-efs/
CATEGORIES:OE-Orientaciones Externas
END:VEVENT
END:VCALENDAR