BEGIN:VCALENDAR
VERSION:2.0
PRODID:-//OFICINA DEL CONTRALOR - ECPv6.15.20//NONSGML v1.0//EN
CALSCALE:GREGORIAN
METHOD:PUBLISH
X-WR-CALNAME:OFICINA DEL CONTRALOR
X-ORIGINAL-URL:https://www.ocpr.gov.pr
X-WR-CALDESC:Events for OFICINA DEL CONTRALOR
REFRESH-INTERVAL;VALUE=DURATION:PT1H
X-Robots-Tag:noindex
X-PUBLISHED-TTL:PT1H
BEGIN:VTIMEZONE
TZID:America/Puerto_Rico
BEGIN:STANDARD
TZOFFSETFROM:-0400
TZOFFSETTO:-0400
TZNAME:AST
DTSTART:20180101T000000
END:STANDARD
END:VTIMEZONE
BEGIN:VEVENT
DTSTART;TZID=America/Puerto_Rico:20190709T100000
DTEND;TZID=America/Puerto_Rico:20190709T103000
DTSTAMP:20260419T122651
CREATED:20190716T145259Z
LAST-MODIFIED:20190716T145639Z
UID:6966-1562666400-1562668200@www.ocpr.gov.pr
SUMMARY:Entrevista telefónica a la Contralora Carmen Jovet
DESCRIPTION:Entrevista telefónica a la Contralora Carmen Jovet \n\n\n\n\n\n1581 Ponce de León Street\, Urb. El Cerezal\, San Juan\, PR 00926 Phone: 787-474-0630  \nhttps://www.notiuno.com \nShare this:\n				Share on Facebook (Opens in new window)\n				Facebook\n			\n				Share on X (Opens in new window)\n				X\n			\n				Share on LinkedIn (Opens in new window)\n				LinkedIn\n			\n				Email a link to a friend (Opens in new window)\n				Email\n			\n				Print (Opens in new window)\n				Print
URL:https://www.ocpr.gov.pr/event/entrevista-telefonica-a-la-contralora-carmen-jovet/
LOCATION:Noti Uno Radio\, 1581 Ponce de León Street\, Urb. El Cerezal\, San Juan\, 00926\, United States
CATEGORIES:PC-Participaciones de la Contralora
END:VEVENT
BEGIN:VEVENT
DTSTART;TZID=America/Puerto_Rico:20190712T073000
DTEND;TZID=America/Puerto_Rico:20190712T080000
DTSTAMP:20260419T122651
CREATED:20190730T143804Z
LAST-MODIFIED:20190909T142847Z
UID:7035-1562916600-1562918400@www.ocpr.gov.pr
SUMMARY:Entrevista telefónica a la Contralora por Roberto Morales - Radio Universidad\, Río Piedras
DESCRIPTION:Entrevista telefónica a la Contralora por Roberto Morales – Radio Universidad\, Río Piedras. \n\n\n\n\nShare this:\n				Share on Facebook (Opens in new window)\n				Facebook\n			\n				Share on X (Opens in new window)\n				X\n			\n				Share on LinkedIn (Opens in new window)\n				LinkedIn\n			\n				Email a link to a friend (Opens in new window)\n				Email\n			\n				Print (Opens in new window)\n				Print
URL:https://www.ocpr.gov.pr/event/entrevista-telefonica-a-la-contralora-por-roberto-morales-radio-universidad-rio-piedras/
LOCATION:Lugar: Radio Universidad de Puerto Rico\, Cll Mariana Bracetti\, San Juan CW4X+7P San Juan\, San Juan\, 00925\, Puerto Rico
CATEGORIES:PC-Participaciones de la Contralora
END:VEVENT
BEGIN:VEVENT
DTSTART;TZID=America/Puerto_Rico:20190717T180000
DTEND;TZID=America/Puerto_Rico:20190717T190000
DTSTAMP:20260419T122651
CREATED:20190730T141511Z
LAST-MODIFIED:20190802T203424Z
UID:7031-1563386400-1563390000@www.ocpr.gov.pr
SUMMARY:Entrevista Jugando Pelota Dura a la Contralora
DESCRIPTION:Entrevista Jugando Pelota Dura a la Contralora \n\n\nShare this:\n				Share on Facebook (Opens in new window)\n				Facebook\n			\n				Share on X (Opens in new window)\n				X\n			\n				Share on LinkedIn (Opens in new window)\n				LinkedIn\n			\n				Email a link to a friend (Opens in new window)\n				Email\n			\n				Print (Opens in new window)\n				Print
URL:https://www.ocpr.gov.pr/event/entrevista-jugando-pelota-dura-a-la-contralora/
LOCATION:Lugar: Univisión Puerto Rico\, 64 Carazo St\, Guaynabo\, 00970\, Puerto Rico
CATEGORIES:PC-Participaciones de la Contralora
END:VEVENT
BEGIN:VEVENT
DTSTART;TZID=America/Puerto_Rico:20190731T060000
DTEND;TZID=America/Puerto_Rico:20190731T063000
DTSTAMP:20260419T122651
CREATED:20190802T202929Z
LAST-MODIFIED:20190802T203309Z
UID:7081-1564552800-1564554600@www.ocpr.gov.pr
SUMMARY:Entrevista radial de la Contralora Radio Isla 1320
DESCRIPTION:Entrevista radial de la Contralora\, Radio Isla 1320 San Juan PR \n\n\n\n\n\n\nShare this:\n				Share on Facebook (Opens in new window)\n				Facebook\n			\n				Share on X (Opens in new window)\n				X\n			\n				Share on LinkedIn (Opens in new window)\n				LinkedIn\n			\n				Email a link to a friend (Opens in new window)\n				Email\n			\n				Print (Opens in new window)\n				Print
URL:https://www.ocpr.gov.pr/event/entrevista-radial-de-la-contralora-radio-isla-1320/
LOCATION:Radio Isla 1320\, 171 Avenida Carlos Chardón Suite 401\, San Juan\, 00918\, Puerto Rico
CATEGORIES:PC-Participaciones de la Contralora
END:VEVENT
END:VCALENDAR