BEGIN:VCALENDAR
VERSION:2.0
PRODID:-//OFICINA DEL CONTRALOR - ECPv6.15.20//NONSGML v1.0//EN
CALSCALE:GREGORIAN
METHOD:PUBLISH
X-WR-CALNAME:OFICINA DEL CONTRALOR
X-ORIGINAL-URL:https://www.ocpr.gov.pr
X-WR-CALDESC:Events for OFICINA DEL CONTRALOR
REFRESH-INTERVAL;VALUE=DURATION:PT1H
X-Robots-Tag:noindex
X-PUBLISHED-TTL:PT1H
BEGIN:VTIMEZONE
TZID:America/Puerto_Rico
BEGIN:STANDARD
TZOFFSETFROM:-0400
TZOFFSETTO:-0400
TZNAME:AST
DTSTART:20250101T000000
END:STANDARD
END:VTIMEZONE
BEGIN:VEVENT
DTSTART;TZID=America/Puerto_Rico:20260419T000000
DTEND;TZID=America/Puerto_Rico:20260425T235959
DTSTAMP:20260421T055256
CREATED:20260109T123440Z
LAST-MODIFIED:20260109T123443Z
UID:16740-1776556800-1777161599@www.ocpr.gov.pr
SUMMARY:Semana del Profesional Administrativo
DESCRIPTION:Semana del Profesional Administrativo
URL:https://www.ocpr.gov.pr/event/semana-del-profesional-administrativo/
END:VEVENT
BEGIN:VEVENT
DTSTART;TZID=America/Puerto_Rico:20260421T080000
DTEND;TZID=America/Puerto_Rico:20260421T170000
DTSTAMP:20260421T055256
CREATED:20260319T183605Z
LAST-MODIFIED:20260319T183608Z
UID:17049-1776758400-1776790800@www.ocpr.gov.pr
SUMMARY:Organización CROEM Alumni - Presencial
DESCRIPTION:Semana Puertorriqueña y el Desfile Nacional Puertorriqueño en New York
URL:https://www.ocpr.gov.pr/event/organizacion-croem-alumni-presencial/
CATEGORIES:OE-Orientaciones Externas,PC-Participaciones de la Contralora
END:VEVENT
BEGIN:VEVENT
DTSTART;TZID=America/Puerto_Rico:20260421T090000
DTEND;TZID=America/Puerto_Rico:20260421T110000
DTSTAMP:20260421T055256
CREATED:20260319T183910Z
LAST-MODIFIED:20260330T134007Z
UID:17052-1776762000-1776769200@www.ocpr.gov.pr
SUMMARY:Semana de la Biblioteca 2026
DESCRIPTION:Actos de Apertura y Lectura de la Proclama bajo el lema: Encuentra tu Alegria La Semana de la Biblioteca 2026 se celebra como una conmemoración para destacar la importancia de las bibliotecas en la educación\, el acceso a la información y el desarrollo cultural. Charla motivacional Encuentra tu felicidadActividad para celebrar la Biblioteca dirigido al personal de la OCPR
URL:https://www.ocpr.gov.pr/event/semana-de-la-biblioteca-2026/
CATEGORIES:AP-Adiestramiento al Personal
END:VEVENT
BEGIN:VEVENT
DTSTART;TZID=America/Puerto_Rico:20260421T090000
DTEND;TZID=America/Puerto_Rico:20260421T140000
DTSTAMP:20260421T055256
CREATED:20260330T133732Z
LAST-MODIFIED:20260330T133734Z
UID:17130-1776762000-1776780000@www.ocpr.gov.pr
SUMMARY:Feria de Empleo CRECEN UPR Recinto Universitario de Mayagüez
DESCRIPTION:21 de abril de 2026Mesa informativa de la OCPR en la Feria de Empleo CRECENHora: 9:00 am a 11:30 amLugar: Universidad de Puerto Rico-Mayagüez\, Edificio de Administración de Empresas\, Salón 203 A-C
URL:https://www.ocpr.gov.pr/event/feria-de-empleo-crecen-upr-recinto-universitario-de-mayaguez/
CATEGORIES:OE-Orientaciones Externas
END:VEVENT
END:VCALENDAR